BEGIN:VCALENDAR
PRODID:-//AT Content Types//AT Event//EN
VERSION:1.0
BEGIN:VEVENT
DTSTART:20260501T060000Z
DTEND:20260501T210000Z
DCREATED:20260423T065932Z
UID:ATEvent-0d6f4c83cba04f0bacbf043e2435f007
SEQUENCE:0
LAST-MODIFIED:20260423T071417Z
SUMMARY:Maibaum - Tradition
LOCATION:Maibaum - Tradition
PRIORITY:3
TRANSP:0
END:VEVENT
END:VCALENDAR
