BEGIN:VCALENDAR
PRODID:-//AT Content Types//AT Event//EN
VERSION:1.0
BEGIN:VEVENT
DTSTART:20260621T150000Z
DTEND:20260621T190000Z
DCREATED:20260421T055708Z
UID:ATEvent-96b689e45b7b49ae8526da918d24c292
SEQUENCE:0
LAST-MODIFIED:20260421T060241Z
SUMMARY:GAU416 - Gauschießen 2026 - Siegerehrung
DESCRIPTION:Siegerehrung am 21. Juni 2026 um 17 Uhr
PRIORITY:3
TRANSP:0
END:VEVENT
END:VCALENDAR
