BEGIN:VCALENDAR
PRODID:-//AT Content Types//AT Event//EN
VERSION:2.0
METHOD:PUBLISH
BEGIN:VEVENT
DTSTAMP:20260424T180945Z
CREATED:20170312T133100Z
UID:ATEvent-000f9746765b497daf2ed1f3d1018419
LAST-MODIFIED:20260418T184354Z
SUMMARY:GAU416 - Gauschießen 2026
DTSTART:20260410T160000Z
DTEND:20260430T200000Z
DESCRIPTION:in Gaimersheim vom 10.04. - 30.04.26
CLASS:PUBLIC
END:VEVENT
END:VCALENDAR
