BEGIN:VCALENDAR
PRODID:-//AT Content Types//AT Event//EN
VERSION:2.0
METHOD:PUBLISH
BEGIN:VEVENT
DTSTAMP:20260424T211724Z
CREATED:20160715T162047Z
UID:ATEvent-40ae96db1b3f43aeb3503ac54c3bc583
LAST-MODIFIED:20260421T061218Z
SUMMARY:150 Jahre FFW Unsernherrn
DTSTART:20260619T170000Z
DTEND:20260622T210000Z
DESCRIPTION:19. Juni bis 22. Juni 2026
CLASS:PUBLIC
END:VEVENT
END:VCALENDAR
